Workbook
Name _edn1: Principles!#REF!
Name _edn2: Principles!#REF!
Name _edn3: Principles!#REF!
Name _edn4: Principles!#REF!
Name _edn5: Principles!#REF!
Name _edn6: Principles!#REF!
Name _edn7: Principles!#REF!
Name _edn8: Principles!#REF!
Name _edn9: Principles!#REF!
Name _ednref3: Principles!$H$4
Name _ednref4: Principles!$G$4
Name _ednref5: Principles!$D$10
Name _ednref6: Principles!$D$13
Name _ednref7: Principles!$D$15
Name _ednref8: Principles!$H$15
Name _ednref9: Principles!$D$16

Sheet Front Page
A1: Area | B1: Link
A2: Background on the model | B2: https://www.deepteam.co.uk/strategy-delivery-how-is-your-gearbox
A3: BIG Knowledge | B3: https://big-cic.org.uk/body-of-knowledge/
A4: BIG Principles | B4: https://www.youtube.com/watch?v=VUTtytJSd_4
A5: BIG CIC LinkedIn Page | B5: https://www.linkedin.com/groups/13651399/
A6: Praxis Version | B6: https://www.praxisframework.org/en/integrated-governance/big-intro

Sheet Summary
A1: Area | B1: Principle | C1: Simple Assessment | D1: BIG Assessment (0 - 4)
A2: =BIG!A2 -> Organisation | B2: =BIG!B2 -> Strategy is necessary to achieve purpose | C2: =VLOOKUP(BIG!D2,Scale!A2:B6,2,FALSE) -> #N/A | D2: =BIG!Q2 -> #N/A
A3: =BIG!A6 -> Organisation | B3: =BIG!B6 -> The organisation has structure | C3: =VLOOKUP(BIG!D6,Scale!A2:B6,2,FALSE) -> #N/A | D3: =BIG!Q6 -> #N/A
A4: =BIG!A10 -> Organisation | B4: =BIG!B10 -> Strategy management is ongoing | C4: =VLOOKUP(BIG!D10,Scale!A2:B6,2,FALSE) -> #N/A | D4: =BIG!Q10 -> #N/A
A5: =BIG!A14 -> Governance | B5: =BIG!B14 -> Governance is integrated | C5: =VLOOKUP(BIG!D14,Scale!A2:B6,2,FALSE) -> #N/A | D5: =BIG!Q14 -> #N/A
A6: =BIG!A18 -> Governance | B6: =BIG!B18 -> Governance facilitates information-based decision making | C6: =VLOOKUP(BIG!D18,Scale!A2:B6,2,FALSE) -> #N/A | D6: =BIG!Q18 -> #N/A
A7: =BIG!A21 -> Governance | B7: =BIG!B21 -> ‘Run', 'change' and 'value generation' are prioritised and balanced | C7: =VLOOKUP(BIG!D21,Scale!A2:B6,2,FALSE) -> #N/A | D7: =BIG!Q21 -> #N/A
A8: =BIG!A26 -> Governance | B8: =BIG!B26 -> Governance has a specific operating model | C8: =VLOOKUP(BIG!D26,Scale!A2:B6,2,FALSE) -> #N/A | D8: =BIG!Q26 -> #N/A
A9: =BIG!A30 -> Accountability | B9: =BIG!B30 -> Accountability underpins governance | C9: =VLOOKUP(BIG!D30,Scale!A2:B6,2,FALSE) -> #N/A | D9: =BIG!Q30 -> #N/A
A10: =BIG!A35 -> Accountability | B10: =BIG!B35 -> Those accountable are empowered | C10: =VLOOKUP(BIG!D35,Scale!A2:B6,2,FALSE) -> #N/A | D10: =BIG!Q35 -> #N/A
A11: =BIG!A40 -> Data | B11: =BIG!B40 -> Data underpins information | C11: =VLOOKUP(BIG!D40,Scale!A2:B6,2,FALSE) -> #N/A | D11: =BIG!Q40 -> #N/A
A12: =BIG!A44 -> Information | B12: =BIG!B44 -> Information underpins governance, accountability and assurance | C12: =VLOOKUP(BIG!D44,Scale!A2:B6,2,FALSE) -> #N/A | D12: =BIG!Q44 -> #N/A
A13: =BIG!A49 -> Business Support | B13: =BIG!B49 -> There is dedicated management for governance processes and orchestration | C13: =VLOOKUP(BIG!D49,Scale!A2:B6,2,FALSE) -> #N/A | D13: =BIG!Q49 -> #N/A
A14: =BIG!A53 -> Assurance | B14: =BIG!B53 -> Independent assurance provides check and balance | C14: =VLOOKUP(BIG!D53,Scale!A2:B6,2,FALSE) -> #N/A | D14: =BIG!Q53 -> #N/A
A15: =BIG!A57 -> Leadership | B15: =BIG!B57 -> Lifetime executive sponsorship | C15: =VLOOKUP(BIG!D57,Scale!A2:B6,2,FALSE) -> #N/A | D15: =BIG!Q57 -> #N/A
A17: Simple Assessment | C17: Row Labels | D17: Count of BIG Assessment
A18: RED | B18: =Scale!A2 -> None of the principle is met | C18: Clarity
A19: AMBER | B19: =Scale!A3 -> The principle is met partially, inadequately | C19: (blank)
B20: =Scale!A4 -> The principle is met partially, adequately | C20: Communication
A21: BLUE | B21: =Scale!A5 -> The principle is fully met, inadequately | C21: (blank)
A22: GREEN | B22: =Scale!A6 -> The principle is fully met, adequately | C22: Control
C23: (blank)
C24: Delegation
C25: (blank)
C26: Enablement
C27: (blank)
C28: Integration
C29: (blank)
C30: (blank)
C31: (blank)
C32: Grand Total

Sheet BIG
A1: Area | B1: Principle | C1: Decription | D1: Simple Assessment | E1: RAG | F1: Comment | G1: Action Items | H1: Standard Action | I1: Order | J1: Sub Area | K1: GOOD Looks like | L1: BAD Looks like | M1: BIG Assessment | N1: Comment | O1: SO WHAT
A2: Organisation | B2: Strategy is necessary to achieve purpose | C2: It is accepted that viable strategy and a strategic plan are necessary to enable an organisation achieve its purpose | E2: =VLOOKUP(D2,Scale!$A$2:$B$6,2,FALSE) -> #N/A | H2: Ensure the organisation has a viable strategy to achieve its purpose | I2: 1 | J2: Clarity | K2: The organisation has a clear Mission / Purpose that drives a Vision / Picture of the future organisation state compared to the current state | L2: The organisation Purpose is not clear and does not drive a Vision (picture of future state) compared to Current State for the organisation. | P2: =VLOOKUP(M2,Scale!$A$1:$C$6,3,FALSE) -> #N/A | Q2: =AVERAGE(P2:P5) -> #N/A
I3: 2 | J3: Clarity | K3: The organisation has business drivers (corporate Opportunities, Threats, Imperatives and Goals) | L3: The organisation does not systematically maintain or manage its corporate Drivers. | P3: =VLOOKUP(M3,Scale!$A$1:$C$6,3,FALSE) -> #N/A
I4: 3 | J4: Clarity | K4: The organisation has a viable Strategy that describes responses to drivers and steps towards Vision and Purpose in terms of clearly defined Objectives for change, Targets for performance, and Challenges for innovation | L4: The Purpose, Drivers and Vision do not systematically shape the Strategy or map clearly to the emergent Objectives, Targets, and Challenges. | P4: =VLOOKUP(M4,Scale!$A$1:$C$6,3,FALSE) -> #N/A
I5: 4 | J5: Communication | K5: The Strategy is communicated through a viable strategic plan and lower level plans | L5: There is no line of sight from the Strategy into the activities of the organisation. | P5: =VLOOKUP(M5,Scale!$A$1:$C$6,3,FALSE) -> #N/A
A6: Organisation | B6: The organisation has structure | C6: Entities and structures exist to direct, manage and deliver business as usual, value generation and change in a context of risk and uncertainty, delivering strategy and performance | E6: =VLOOKUP(D6,Scale!$A$2:$B$6,2,FALSE) -> #N/A | H6: Ensure entities and structures exist to deliver business as usual, value creation and change | I6: 1 | J6: Delegation | K6: The organisation structure is clear and made up of organisational entities which may be permanent and temporary and carry out business as usual, value generation or change. | L6: The organisation does not have clear structure to enable it to effectively carry out Business as Usual, Value Generation or Change. | P6: =VLOOKUP(M6,Scale!$A$1:$C$6,3,FALSE) -> #N/A | Q6: =AVERAGE(P6:P9) -> #N/A
I7: 2 | J7: Delegation | K7: Objectives, Targets or Challenges from the Strategy may be delegated or assembled to a point of accountability (Accountability Node) with an accountable person. | L7: The organisation has unclear, duplicated or overlapping accountabilities. | P7: =VLOOKUP(M7,Scale!$A$1:$C$6,3,FALSE) -> #N/A
I8: 3 | J8: Delegation | K8: Accountability Nodes may be for fixed points in a hierarchy (e.g. departments), or cross functional (e.g. programmes, products) | L8: The organisation does not have a method of defining and managing accountability across organisational domains. | P8: =VLOOKUP(M8,Scale!$A$1:$C$6,3,FALSE) -> #N/A
I9: 4 | J9: Enablement | K9: Empowered Cross functional Accountability Nodes can be held to account from outside their position in the organisation hierarchy | L9: The organisation is only able to hold people to account through organisational lines, meaning cross function strategic initiatives cannot hold those outside the lead organisational unit to account. | P9: =VLOOKUP(M9,Scale!$A$1:$C$6,3,FALSE) -> #N/A
A10: Organisation | B10: Strategy management is ongoing | C10: Strategy management is an ongoing process to listen, formulate, communicate and progress | E10: =VLOOKUP(D10,Scale!$A$2:$B$6,2,FALSE) -> #N/A | H10: Treat strategy management as an ongoing process, not a one-off activity | I10: 1 | J10: Control | K10: The Strategy and related plans are regularly reviewed, with progress and viability regularly validated | L10: Plans to deliver Strategy become misaligned and invalid. | P10: =VLOOKUP(M10,Scale!$A$1:$C$6,3,FALSE) -> #N/A | Q10: =AVERAGE(P10:P13) -> #N/A
I11: 2 | J11: Control | K11: The drivers for strategy are reviewed periodically, and changes in drivers may cause changes in scope and priority of Objectives, Targets and Challenges within the Strategy | L11: The Drivers for Strategy are not clear or kept in review meaning the Strategy is no longer valid. | P11: =VLOOKUP(M11,Scale!$A$1:$C$6,3,FALSE) -> #N/A
I12: 3 | J12: Control | K12: The distribution of Objectives, Targets and Challenges into Accountability Nodes is regularly verified | L12: Alignment of strategic expectation and accountability within the organisation diverges. | P12: =VLOOKUP(M12,Scale!$A$1:$C$6,3,FALSE) -> #N/A
I13: 4 | J13: Enablement | K13: There is ongoing (re)allocation and spend review of leadership time, funds and resources against priority | L13: Changes in Drivers do not affect prioritisation of Objectives, Targets or Challenges. | P13: =VLOOKUP(M13,Scale!$A$1:$C$6,3,FALSE) -> #N/A
A14: Governance | B14: Governance is integrated | C14: Governance is integrated, orchestrated and supported throughout the organisation | E14: =VLOOKUP(D14,Scale!$A$2:$B$6,2,FALSE) -> #N/A | H14: Ensure governance is integrated, orchestrated and supported throughout the organisation | I14: 1 | J14: Delegation | K14: Integrated Accountability Nodes underpin integrated governance across Business as Usual, Value Generation and Change | L14: Without Integrated Governance overseeing BAU, Value Generation and Change choices, localised decision-making leads to suboptimum decisions. | P14: =VLOOKUP(M14,Scale!$A$1:$C$6,3,FALSE) -> #N/A | Q14: =AVERAGE(P14:P17) -> #N/A
I15: 2 | J15: Integration | K15: There is a map of all Accountability Nodes with clearly defined dependencies and information flows for escalation and delegation, with minimal overlaps and gaps | L15: Without an Accountability Map, information flows are ad-hoc and on demand rather than systematic. | P15: =VLOOKUP(M15,Scale!$A$1:$C$6,3,FALSE) -> #N/A
I16: 3 | J16: Control | K16: New, changed or progressing Objectives, Targets and Challenges can be disseminated and summarised through the Accountability Map. | L16: Without the Accountability Map, there is unclear accountability across business domains for cross functional activities, so escalations, delegations and decisions are poorer. | P16: =VLOOKUP(M16,Scale!$A$1:$C$6,3,FALSE) -> #N/A
I17: 4 | J17: Control | K17: Support is provided to ensure Integrated, orchestrated and supported governance. | L17: Without support to enable synchronised information flows, information flow becomes less easy and reliable point to point. | P17: =VLOOKUP(M17,Scale!$A$1:$C$6,3,FALSE) -> #N/A
A18: Governance | B18: Governance facilitates information-based decision making | C18: Decision making and prioritisation is based on relevant, reliable, viable information from 'run', 'change' and 'value generation' parts of the organisation | E18: =VLOOKUP(D18,Scale!$A$2:$B$6,2,FALSE) -> #N/A | H18: Ensure decision making is made on the foundation of relevant, reliable, viable information from all parts of the organisation | I18: 1 | J18: Control | K18: Decision making is based on reliable evidence, sound projection, and clear understanding of risk. | L18: Decision making is based on opinion, assumption and guesswork without appreciation of risk. | P18: =VLOOKUP(M18,Scale!$A$1:$C$6,3,FALSE) -> #N/A | Q18: =AVERAGE(P18:P20) -> #N/A
I19: 2 | J19: Integration | K19: Governance is operated to a cadence which enables readiness and participation with information from across the organisation | L19: Information may not be ready (or validated) to conduct governance (or assurance) with. | P19: =VLOOKUP(M19,Scale!$A$1:$C$6,3,FALSE) -> #N/A
I20: 3 | J20: Integration | K20: The operation of governance brings together accountable people with pertinent information to make decisions at the right time | L20: If governance is ad hoc, Stakeholders may not be available to participate, or have confidence to make decisions, meaning suboptimal or delayed decision making. | P20: =VLOOKUP(M20,Scale!$A$1:$C$6,3,FALSE) -> #N/A
A21: Governance | B21: ‘Run', 'change' and 'value generation' are prioritised and balanced | C21: The integrated governance framework enables strategy execution, prioritising between balanced 'run', 'change' and 'value generation' objectives and activity | E21: =VLOOKUP(D21,Scale!$A$2:$B$6,2,FALSE) -> #N/A | H21: Operate the governance framework to enable strategy execution, prioritising funds and resources across the organisation | I21: 1 | J21: Integration | K21: The organisation has a governance framework which makes choices between (prioritises) all possible uses of leadership time, resources and funding across BAU, Value Generation and Change activity. | L21: The organisation has governance frameworks for BAU, Value Generation and Change activity, but finds it difficult to make choices across organisational units. | P21: =VLOOKUP(M21,Scale!$A$1:$C$6,3,FALSE) -> #N/A | Q21: =AVERAGE(P21:P25) -> #N/A
I22: 2 | J22: Enablement | K22: Priority is implemented via deployment of leadership time, resources and funding providing empowerment to Accountability Nodes | L22: Priority is not quantified and does not lead to deployment of leadership time, resources and funding (providing empowerment) to Accountability Nodes. | P22: =VLOOKUP(M22,Scale!$A$1:$C$6,3,FALSE) -> #N/A
I23: 3 | J23: Enablement | K23: Priority is cascaded through lower levels of the organisation and through the Accountability Map | L23: There is no systematic cascade of priority through the organisation levels. | P23: =VLOOKUP(M23,Scale!$A$1:$C$6,3,FALSE) -> #N/A
I24: 4 | J24: Control | K24: Should the empowerment cascaded not meet local needs, issues and risks are raised and may be escalated for resolution | L24: The mechanism to raise issues / risks is poorly used as there is expectation of a 'can do attitude'. | P24: =VLOOKUP(M24,Scale!$A$1:$C$6,3,FALSE) -> #N/A
I25: 5 | J25: Control | K25: Analysis of deployment of leadership time, resources and funding vs actual spend enables corrective action to be taken around priority and balance. | L25: There is no analysis of consumption of leadership time, funds or resources vs priority, hence a lack of mechanism for correction of prioritisation. | P25: =VLOOKUP(M25,Scale!$A$1:$C$6,3,FALSE) -> #N/A
A26: Governance | B26: Governance has a specific operating model | C26: To enable governance and accountability, the organisation operates effective processes, tools, support, roles/responsibilities and equips people with relevant skills | E26: =VLOOKUP(D26,Scale!$A$2:$B$6,2,FALSE) -> #N/A | H26: Design governance and accountability to operate with effective processes, roles, tools and support | I26: 1 | J26: Control | K26: The processes and tools for governance and accountability are distinct within the organisation. | L26: The processes and tools for governance and accountability are not distinct within the organisation. | P26: =VLOOKUP(M26,Scale!$A$1:$C$6,3,FALSE) -> #N/A | Q26: =AVERAGE(P26:P29) -> #N/A
I27: 2 | J27: Control | K27: Processes and tools to support the operating model for strategy and performance management may be specific within Busienss as Usual, Value Generation and Change. | L27: The organisation relies on localised support resources for governance and accountability, and Organisation units operate localised tools and processes which are not harmonised for the purpose of integrated governance. | P27: =VLOOKUP(M27,Scale!$A$1:$C$6,3,FALSE) -> #N/A
I28: 3 | J28: Control | K28: Funding and resource allocation processes and tools are developed and used | L28: Processes and tools for funding and resourcing are localised and not common. | P28: =VLOOKUP(M28,Scale!$A$1:$C$6,3,FALSE) -> #N/A
I29: 4 | J29: Control | K29: Employees understand and carry out their role within the governance operation (strategy and performance management, and across Busienss as Usual, Value Generation and Change) | L29: People have to work out their role within the operation of governance and do not have professional development plans for capabilities to operate governance. | P29: =VLOOKUP(M29,Scale!$A$1:$C$6,3,FALSE) -> #N/A
A30: Accountability | B30: Accountability underpins governance | C30: The organisation has clear points of accountability to enable an accountable culture and to provide the building blocks of integrated governance | E30: =VLOOKUP(D30,Scale!$A$2:$B$6,2,FALSE) -> #N/A | H30: Ensure accountability is enabled and supported to underpin governance | I30: 1 | J30: Delegation | K30: The culture of accountability with accountable people makes it possible to operate integrated governance. | L30: The culture with respect to accountability means holding to account or being held to account is not central to organisation behaviours. | P30: =VLOOKUP(M30,Scale!$A$1:$C$6,3,FALSE) -> #N/A | Q30: =AVERAGE(P30:P34) -> #N/A
I31: 2 | J31: Enablement | K31: Accountability is defined in a document that empowers the Accountable person - for example a strategy plan, operating plan, business case or business plan. | L31: The organisation expects accountability but does not create or maintain documents to underpin accountability. | P31: =VLOOKUP(M31,Scale!$A$1:$C$6,3,FALSE) -> #N/A
I32: 3 | J32: Integration | K32: The accountabilities, responsibilities, dependencies and information flows between Accountability Nodes constitute the Accountability Map which is the basis of integrated governance. | L32: The Accountability Map is informal and not complete. | P32: =VLOOKUP(M32,Scale!$A$1:$C$6,3,FALSE) -> #N/A
I33: 4 | J33: Integration | K33: Accountability is taken on with the means to hold others to account for dependencies or be held to account by others. | L33: Accountability is often taken on without the means to hold others to account for dependencies or be held to account by others. | P33: =VLOOKUP(M33,Scale!$A$1:$C$6,3,FALSE) -> #N/A
I34: 5 | J34: Control | K34: There are rewards and consequences related to acceptance of empowerment and accountability. | L34: There is no consequence or reward related to being accountable. | P34: =VLOOKUP(M34,Scale!$A$1:$C$6,3,FALSE) -> #N/A
A35: Accountability | B35: Those accountable are empowered | C35: Accountability is empowerment with clarity of objective, authority, leadership access, funds and resources which have been prioritised and balanced | E35: =VLOOKUP(D35,Scale!$A$2:$B$6,2,FALSE) -> #N/A | H35: Empower points of accountability with clarity (of objective or target), authority, funds and resources | I35: 1 | J35: Enablement | K35: All points of accountability are visibly empowered with clarity of objective, authority, leadership access, funds, competence and resources. | L35: Not all Accountability Nodes are visibly empowered with clarity of objective, authority, leadership access, funds and resources. | P35: =VLOOKUP(M35,Scale!$A$1:$C$6,3,FALSE) -> #N/A | Q35: =AVERAGE(P35:P39) -> #N/A
I36: 2 | J36: Control | K36: Objectives, Targets, and Challenges are supported by key performance and key results indicators | L36: Without key performance and key results indicators, there is no means to enable an accountable person to demonstrate progress or therefore retain empowerment. | P36: =VLOOKUP(M36,Scale!$A$1:$C$6,3,FALSE) -> #N/A
I37: 3 | J37: Control | K37: The organisation uses rewards and consequences for the management of accountability and achievement of Objectives, Targets, and Challenges | L37: Without defining consequences and rewards on achievement of Objectives, Targets, and Challenges there is less motivation to achieve them. | P37: =VLOOKUP(M37,Scale!$A$1:$C$6,3,FALSE) -> #N/A
I38: 4 | J38: Enablement | K38: Funding and resources for Accountability Nodes have been prioritised alongside each other | L38: Accountability Nodes have not been empowered unless their needs are prioritised with respect to other Accountability Nodes. | P38: =VLOOKUP(M38,Scale!$A$1:$C$6,3,FALSE) -> #N/A
I39: 5 | J39: Control | K39: Each Accountability Node has been balanced with respect to workload and timing. | L39: Lack of commitment to timing of funds and resources diminishes empowerment. | P39: =VLOOKUP(M39,Scale!$A$1:$C$6,3,FALSE) -> #N/A
A40: Data | B40: Data underpins information | C40: There is ongoing strategy, design and support for capability and capacity for data integration and quality management for information to support accountability, governance and assurance | E40: =VLOOKUP(D40,Scale!$A$2:$B$6,2,FALSE) -> #N/A | H40: Ensure the ongoing capability and capacity for data integration and quality management | I40: 1 | J40: Control | K40: Data necessary for the formation of information (reporting) for governance is continually defined | L40: The data required for governance is defined and collated on an ad hoc basis with little forethought for how it will be collected and prepared. | P40: =VLOOKUP(M40,Scale!$A$1:$C$6,3,FALSE) -> #N/A | Q40: =AVERAGE(P40:P43) -> #N/A
...

Sheet BAD Looks like
A1: Principle | B1: BAD
A2: Strategy is necessary to achieve purpose | B2: An organisation with an unclear/un-agreed purpose will be committing shareholder funds for unclear reasons. Moreover, any vision it has may be missing the reason the organisation has to exist. The strategy to bridge the gap between current state and vision therefore may not be fit for the purpose. While the organisation may be economically viable achieving the performance it does, long term viability may be at risk.
A6: The organisation has structure | B6: The organisation structure may have clear definition for its permanent components but does not have clear distribution of activities to achieve purpose in Business as Usual, Value Generation or Change. It does not have the means to hold people to account for cross functional strategic initiatives which do not fit the permanent hierarchy.
A10: Strategy management is ongoing | B10: Changes in the drivers for strategy do not find their way into strategy, the strategic priorities don’t change, changes are not communicated to those accountable. Activity related to strategy diverges with strategic intent, and progress provides less value.
A14: Governance is integrated | B14: If governance is not integrated, orchestrated and supported through the organisation, localised decision making means the bigger picture is not considered, less reliable information is used to make decisions, escalations and delegations are slower and less effective. Suboptimal decision making prevails with a greater cost of decision support.
A18: Governance facilitates information-based decision making | B18: Without a governance framework to facilitate the information and participation in decision making can be suboptimal or delayed.
A21: ‘Run', 'change' and 'value generation' are prioritised and balanced | B21: Without systematic prioritisation and balance, the deployment of leadership time, funds and resources to BAU, Value Generation and Change activity may not be in line with strategic directions at any level in the organisation.
A26: Governance has a specific operating model | B26: Governance is seen as something which just has to happen, but the organisation provides no central orchestration, process, tools, roles or support.
A31: Accountability underpins governance | B31: The organisation culture does not set the basis for accountability by effectively empowering accountable people. It does not support people to be accountable and does not hold people to account with consequence or reward. Without people being accountable, the local process of governance is destined to fail, so the integrated approach to governance will fail.
A36: Those accountable are empowered | B36: The organisation does not enable accountability with the necessary empowerment. This manifests itself in lack of clarity of objective, soft commitments to resources and funds, not providing the means to measure, and not rewarding success.
A41: Data underpins information | B41: Data for governance is plucked from wherever it can be found on an ad-hoc basis. It requires a lot of effort to manipulate and is prepared into one off reports. Data is not easily traceable. Data for governance falls outside the support of core IT systems, data and MI tools.
A45: Information underpins governance, accountability and assurance | B45: Information for governance is prepared on an ad hoc basis. Quality is unreliable. The data is not traceable and is primarily document based where it is difficult to control / share. Confidence in Information is low, which affects decision making.
... A60: Lifetime executive sponsorship | B60: There is no executive sponsor for integrated governance with enough authority or influence to initiate or sustain an integrated governance operation. When a sponsor leaves, the business support function dissolves and integrated governance breaks down.

Sheet Principles
A2: ID | B2: Index | C2: Increment | D2: Component | E2: Principle | F2: Order | G2: Description | H2: Action
A3: 1 | B3: =CONCATENATE(D3,C3) -> Organisation1 | C3: 1 | D3: Organisation | E3: Strategy is necessary to achieve purpose | F3: =A3 -> 1 | G3: It is accepted that viable strategy and a strategic plan are necessary to enable an organisation achieve its purpose | H3: Ensure the organisation has a viable strategy to achieve its purpose
A4: 2 | B4: =CONCATENATE(D4,C4) -> Organisation2 | C4: 2 | D4: Organisation | E4: The organisation has structure | F4: =A4 -> 2 | G4: Entities and structures exist to direct, manage and deliver business as usual, value generation and change in a context of risk and uncertainty, delivering strategy and performance | H4: Ensure entities and structures exist to deliver business as usual, value generation and change
A5: 3 | B5: =CONCATENATE(D5,C5) -> Organisation3 | C5: 3 | D5: Organisation | E5: Strategy management is ongoing | F5: =A5 -> 3 | G5: Strategy management is an ongoing process that has tools, process, and support | H5: Treat strategy management as an ongoing process
A6: 4 | B6: =CONCATENATE(D6,C6) -> Governance1 | C6: 1 | D6: Governance | E6: Governance is integrated | F6: =A6 -> 4 | G6: Governance is integrated, orchestrated and supported throughout the organisation | H6: Ensure governance is integrated, orchestrated and supported throughout the organisation
A7: 5 | B7: =CONCATENATE(D7,C7) -> Governance2 | C7: 2 | D7: Governance | E7: Governance facilitates information-based decision making | F7: =A7 -> 5 | G7: Decision making and prioritisation is based on relevant, reliable, viable information from 'run', 'change' and 'value generation' parts of the organisation | H7: Ensure decision making is made on the foundation of relevant, reliable, viable information from all parts of the organisation
A8: 6 | B8: =CONCATENATE(D8,C8) -> Governance3 | C8: 3 | D8: Governance | E8: ‘Run', 'change' and 'value generation' are prioritised and balanced | F8: =A8 -> 6 | G8: The integrated governance framework enables strategy execution, prioritising between balanced 'run', 'change' and 'value generation' objectives and activity | H8: Operate the governance framework to enable strategy execution, prioritising funds and resources across the organisation
A9: 7 | B9: =CONCATENATE(D9,C9) -> Governance4 | C9: 4 | D9: Governance | E9: Governance has a specific operating model | F9: =A9 -> 7 | G9: To enable governance and accountability, the organisation operates effective processes, tools, support, roles/responsibilities and equips people with relevant skills | H9: Design governance and accountability to operate with effective processes, roles, tools and support
A10: 8 | B10: =CONCATENATE(D10,C10) -> Accountability1 | C10: 1 | D10: Accountability | E10: Accountability underpins governance | F10: =A10 -> 8 | G10: The organisation has clear points of accountability to enable an accountable culture and to provide the building blocks of integrated governance | H10: Ensure accountability is enabled and supported to underpin governance
A11: 9 | B11: =CONCATENATE(D11,C11) -> Accountability2 | C11: 2 | D11: Accountability | E11: Those accountable are empowered | F11: =A11 -> 9 | G11: Accountability is empowerment with clarity of objective, authority, leadership access, funds and resources which have been prioritised and balanced | H11: Empower points of accountability with clarity (of objective or target), authority, funds and resources
A12: 10 | B12: =CONCATENATE(D12,C12) -> Data1 | C12: 1 | D12: Data | E12: Data underpins information | F12: =A12 -> 10 | G12: There is ongoing strategy, design and support for capability and capacity for data integration and quality management for information to support accountability, governance and assurance | H12: Ensure the ongoing capability and capacity for data integration and quality management
A13: 11 | B13: =CONCATENATE(D13,C13) -> Information1 | C13: 1 | D13: Information | E13: Information underpins governance, accountability and assurance | F13: =A13 -> 11 | G13: Reliable, current, relevant, integrated, navigable, management information and timely information flow is the backbone to delivery of accountability, assurance and operation of governance | H13: Support needs for information to enable governance, accountability and assurance
A14: 12 | B14: =CONCATENATE(D14,C14) -> Business Support1 | C14: 1 | D14: Business Support | E14: There is dedicated management for governance processes and orchestration | F14: =A14 -> 12 | G14: A centrally coordinated business support function provides expertise, assistance and orchestration for integrated governance and the enabling processes and tools | H14: Provide a centrally coordinated business support function for expertise, assistance and management for integrated governance
... A16: 14 | B16: =CONCATENATE(D16,C16) -> Leadership1 | C16: 1 | D16: Leadership | E16: Lifetime executive sponsorship | F16: =A16 -> 14 | G16: An executive sponsor leads the definition, development, change and sustainment of integrated governance operations through an empowered and accountable business support function | H16: Appoint an executive sponsor for definition, development, operation and sustainment of integrated governance

Sheet Scale
A1: BIG | B1: Colour | C1: Score | D1: Scale | F1: Driver Area | G1: Brief
A2: None of the principle is met | B2: RED | C2: 0 | D2: =A2 -> None of the principle is met | F2: Clarity | G2: Strategy inputs and outputs are not clear
A3: The principle is met partially, inadequately | B3: AMBER | C3: 1 | D3: =A3 -> The principle is met partially, inadequately | F3: Communication | G3: Strategy is poorly cascaded and communicated
A4: The principle is met partially, adequately | B4: AMBER | C4: 1 | D4: =A4 -> The principle is met partially, adequately | F4: Delegation | G4: Accountability for the strategy is not established and accepted
A5: The principle is fully met, inadequately | B5: BLUE | C5: 2 | D5: =A5 -> The principle is fully met, inadequately | F5: Control | G5: Progress on strategy objectives is not clear, nor is how we course-correct
A6: The principle is fully met, adequately | B6: GREEN | C6: 4 | D6: =A6 -> The principle is fully met, adequately | F6: Enablement | G6: We have not empowered accountable people with priority, resources or budget
F7: Agility | G7: The organisation cannot respond quickly to internal / external triggers
F8: Integration | G8: BAU, change and value generation domains are not coordinated or integrated
